BEGIN:VCALENDAR
VERSION:2.0
PRODID:-//Edlio Inc//Edlio Calendar//EN
CALSCALE:GREGORIAN
METHOD:PUBLISH
X-WR-CALNAME:Computer Information Tech (5th) 25-26-5th Period - Rowland Hig
 h School
X-ORIGINAL-URL:https://www.rowlandhs.org
X-WR-CALDESC:Events calendar for www.rowlandhs.org
X-WR-TIMEZONE:US/Pacific
REFRESH-INTERVAL;VALUE=DURATION:PT1H
X-Robots-Tag:noindex
X-PUBLISHED-TTL:PT1H
BEGIN:VTIMEZONE
TZID:US/Pacific
BEGIN:STANDARD
TZOFFSETFROM:-0700
TZOFFSETTO:-0800
DTSTART:20071104T020000
RRULE:FREQ=YEARLY;BYMONTH=11;BYDAY=1SU
END:STANDARD
BEGIN:DAYLIGHT
TZOFFSETFROM:-0800
TZOFFSETTO:-0700
DTSTART:20070311T020000
RRULE:FREQ=YEARLY;BYMONTH=3;BYDAY=2SU
END:DAYLIGHT
END:VTIMEZONE
BEGIN:VTIMEZONE
TZID:US/East-Indiana
BEGIN:STANDARD
TZOFFSETFROM:-0500
TZOFFSETTO:-0500
DTSTART:19701025T020000
END:STANDARD
END:VTIMEZONE
BEGIN:VTIMEZONE
TZID:US/Eastern
BEGIN:STANDARD
TZOFFSETFROM:-0400
TZOFFSETTO:-0500
DTSTART:19701025T020000
RRULE:FREQ=YEARLY;BYMONTH=10;BYDAY=-1SU;UNTIL=20070311T020000
END:STANDARD
BEGIN:STANDARD
TZOFFSETFROM:-0400
TZOFFSETTO:-0500
DTSTART:20071104T020000
RRULE:FREQ=YEARLY;BYMONTH=11;BYDAY=1SU
END:STANDARD
BEGIN:DAYLIGHT
TZOFFSETFROM:-0500
TZOFFSETTO:-0400
DTSTART:19870405T020000
RRULE:FREQ=YEARLY;BYMONTH=4;BYDAY=1SU;UNTIL=20061029T020000
END:DAYLIGHT
BEGIN:DAYLIGHT
TZOFFSETFROM:-0500
TZOFFSETTO:-0400
DTSTART:20070311T020000
RRULE:FREQ=YEARLY;BYMONTH=3;BYDAY=2SU
END:DAYLIGHT
END:VTIMEZONE
BEGIN:VTIMEZONE
TZID:US/Michigan
BEGIN:STANDARD
TZOFFSETFROM:-0400
TZOFFSETTO:-0500
DTSTART:19701025T020000
RRULE:FREQ=YEARLY;BYMONTH=10;BYDAY=-1SU;UNTIL=20070311T020000
END:STANDARD
BEGIN:STANDARD
TZOFFSETFROM:-0400
TZOFFSETTO:-0500
DTSTART:20071104T020000
RRULE:FREQ=YEARLY;BYMONTH=11;BYDAY=1SU
END:STANDARD
BEGIN:DAYLIGHT
TZOFFSETFROM:-0500
TZOFFSETTO:-0400
DTSTART:19870405T020000
RRULE:FREQ=YEARLY;BYMONTH=4;BYDAY=1SU;UNTIL=20061029T020000
END:DAYLIGHT
BEGIN:DAYLIGHT
TZOFFSETFROM:-0500
TZOFFSETTO:-0400
DTSTART:20070311T020000
RRULE:FREQ=YEARLY;BYMONTH=3;BYDAY=2SU
END:DAYLIGHT
END:VTIMEZONE
BEGIN:VTIMEZONE
TZID:US/Central
BEGIN:STANDARD
TZOFFSETFROM:-0500
TZOFFSETTO:-0600
DTSTART:19701025T020000
RRULE:FREQ=YEARLY;BYMONTH=10;BYDAY=-1SU;UNTIL=20070311T020000
END:STANDARD
BEGIN:STANDARD
TZOFFSETFROM:-0500
TZOFFSETTO:-0600
DTSTART:20071104T020000
RRULE:FREQ=YEARLY;BYMONTH=11;BYDAY=1SU
END:STANDARD
BEGIN:DAYLIGHT
TZOFFSETFROM:-0600
TZOFFSETTO:-0500
DTSTART:19870405T020000
RRULE:FREQ=YEARLY;BYMONTH=4;BYDAY=1SU;UNTIL=20061029T020000
END:DAYLIGHT
BEGIN:DAYLIGHT
TZOFFSETFROM:-0600
TZOFFSETTO:-0500
DTSTART:20070311T020000
RRULE:FREQ=YEARLY;BYMONTH=3;BYDAY=2SU
END:DAYLIGHT
END:VTIMEZONE
BEGIN:VTIMEZONE
TZID:US/Mountain
BEGIN:STANDARD
TZOFFSETFROM:-0600
TZOFFSETTO:-0700
DTSTART:19701025T020000
RRULE:FREQ=YEARLY;BYMONTH=10;BYDAY=-1SU;UNTIL=20070311T020000
END:STANDARD
BEGIN:STANDARD
TZOFFSETFROM:-0600
TZOFFSETTO:-0700
DTSTART:20071104T020000
RRULE:FREQ=YEARLY;BYMONTH=11;BYDAY=1SU
END:STANDARD
BEGIN:DAYLIGHT
TZOFFSETFROM:-0700
TZOFFSETTO:-0600
DTSTART:19870405T020000
RRULE:FREQ=YEARLY;BYMONTH=4;BYDAY=1SU;UNTIL=20061029T020000
END:DAYLIGHT
BEGIN:DAYLIGHT
TZOFFSETFROM:-0700
TZOFFSETTO:-0600
DTSTART:20070311T020000
RRULE:FREQ=YEARLY;BYMONTH=3;BYDAY=2SU
END:DAYLIGHT
END:VTIMEZONE
BEGIN:VTIMEZONE
TZID:US/Arizona
BEGIN:STANDARD
TZOFFSETFROM:-0700
TZOFFSETTO:-0700
DTSTART:19701025T020000
END:STANDARD
END:VTIMEZONE
BEGIN:VTIMEZONE
TZID:US/Pacific
BEGIN:STANDARD
TZOFFSETFROM:-0700
TZOFFSETTO:-0800
DTSTART:19701025T020000
RRULE:FREQ=YEARLY;BYMONTH=10;BYDAY=-1SU;UNTIL=20070311T020000
END:STANDARD
BEGIN:STANDARD
TZOFFSETFROM:-0700
TZOFFSETTO:-0800
DTSTART:20071104T020000
RRULE:FREQ=YEARLY;BYMONTH=11;BYDAY=1SU
END:STANDARD
BEGIN:DAYLIGHT
TZOFFSETFROM:-0800
TZOFFSETTO:-0700
DTSTART:19870405T020000
RRULE:FREQ=YEARLY;BYMONTH=4;BYDAY=1SU;UNTIL=20061029T020000
END:DAYLIGHT
BEGIN:DAYLIGHT
TZOFFSETFROM:-0800
TZOFFSETTO:-0700
DTSTART:20070311T020000
RRULE:FREQ=YEARLY;BYMONTH=3;BYDAY=2SU
END:DAYLIGHT
END:VTIMEZONE
BEGIN:VTIMEZONE
TZID:US/Alaska
BEGIN:STANDARD
TZOFFSETFROM:-0800
TZOFFSETTO:-0900
DTSTART:19701025T020000
RRULE:FREQ=YEARLY;BYMONTH=10;BYDAY=-1SU;UNTIL=20070311T020000
END:STANDARD
BEGIN:STANDARD
TZOFFSETFROM:-0800
TZOFFSETTO:-0900
DTSTART:20071104T020000
RRULE:FREQ=YEARLY;BYMONTH=11;BYDAY=1SU
END:STANDARD
BEGIN:DAYLIGHT
TZOFFSETFROM:-0900
TZOFFSETTO:-0800
DTSTART:19870405T020000
RRULE:FREQ=YEARLY;BYMONTH=4;BYDAY=1SU;UNTIL=20061029T020000
END:DAYLIGHT
BEGIN:DAYLIGHT
TZOFFSETFROM:-0900
TZOFFSETTO:-0800
DTSTART:20070311T020000
RRULE:FREQ=YEARLY;BYMONTH=3;BYDAY=2SU
END:DAYLIGHT
END:VTIMEZONE
BEGIN:VTIMEZONE
TZID:US/Hawaii
BEGIN:STANDARD
TZOFFSETFROM:-1000
TZOFFSETTO:-1000
DTSTART:19701025T020000
END:STANDARD
END:VTIMEZONE
BEGIN:VTIMEZONE
TZID:US/Aleutian
BEGIN:STANDARD
TZOFFSETFROM:-1000
TZOFFSETTO:-1000
DTSTART:19701025T020000
END:STANDARD
END:VTIMEZONE
BEGIN:VTIMEZONE
TZID:US/Samoa
BEGIN:STANDARD
TZOFFSETFROM:-1100
TZOFFSETTO:-1100
DTSTART:19701025T020000
END:STANDARD
END:VTIMEZONE
BEGIN:VEVENT
UID:11679490@www.rowlandhs.org#20260514
SEQUENCE:0
CREATED:20260417T220733Z
LAST-MODIFIED:20260417T220733Z
DTSTART;TZID=US/Pacific:20260514T235800
DTEND;TZID=US/Pacific:20260514T235900
SUMMARY:Assignment: Career Crossword
DESCRIPTION:Type the list of ANSWERS in Down and Across columns\n<a href=' 
 https://www.rowlandhs.org/apps/classes/1061419/assignments/#hw-11679490'>R
 ead more</a>
URL:https://www.rowlandhs.org/apps/classes/1061419/assignments/#hw-11679490
ORGANIZER;CN="Edlio Calendar":MAILTO:noreply@www.rowlandhs.org
DTSTAMP:20260419T155152Z
END:VEVENT
BEGIN:VEVENT
UID:11679493@www.rowlandhs.org#20260514
SEQUENCE:0
CREATED:20260417T220733Z
LAST-MODIFIED:20260417T220733Z
DTSTART;TZID=US/Pacific:20260514T235800
DTEND;TZID=US/Pacific:20260514T235900
SUMMARY:Assignment: Career Crossword
DESCRIPTION:Type the list of ANSWERS in Down and Across columns\n<a href=' 
 https://www.rowlandhs.org/apps/classes/1061419/assignments/#hw-11679493'>R
 ead more</a>
URL:https://www.rowlandhs.org/apps/classes/1061419/assignments/#hw-11679493
ORGANIZER;CN="Edlio Calendar":MAILTO:noreply@www.rowlandhs.org
DTSTAMP:20260419T155152Z
END:VEVENT
BEGIN:VEVENT
UID:11679518@www.rowlandhs.org#20260514
SEQUENCE:0
CREATED:20260417T220734Z
LAST-MODIFIED:20260417T220734Z
DTSTART;TZID=US/Pacific:20260514T235800
DTEND;TZID=US/Pacific:20260514T235900
SUMMARY:Assignment: Career Crossword
DESCRIPTION:Type the list of ANSWERS in Down and Across columns\n<a href=' 
 https://www.rowlandhs.org/apps/classes/1061419/assignments/#hw-11679518'>R
 ead more</a>
URL:https://www.rowlandhs.org/apps/classes/1061419/assignments/#hw-11679518
ORGANIZER;CN="Edlio Calendar":MAILTO:noreply@www.rowlandhs.org
DTSTAMP:20260419T155152Z
END:VEVENT
BEGIN:VEVENT
UID:11679530@www.rowlandhs.org#20260514
SEQUENCE:0
CREATED:20260417T220734Z
LAST-MODIFIED:20260417T220734Z
DTSTART;TZID=US/Pacific:20260514T235800
DTEND;TZID=US/Pacific:20260514T235900
SUMMARY:Assignment: Career Crossword
DESCRIPTION:Type the list of ANSWERS in Down and Across columns\n<a href=' 
 https://www.rowlandhs.org/apps/classes/1061419/assignments/#hw-11679530'>R
 ead more</a>
URL:https://www.rowlandhs.org/apps/classes/1061419/assignments/#hw-11679530
ORGANIZER;CN="Edlio Calendar":MAILTO:noreply@www.rowlandhs.org
DTSTAMP:20260419T155152Z
END:VEVENT
BEGIN:VEVENT
UID:11679523@www.rowlandhs.org#20260507
SEQUENCE:0
CREATED:20260417T220734Z
LAST-MODIFIED:20260417T220734Z
DTSTART;TZID=US/Pacific:20260507T235800
DTEND;TZID=US/Pacific:20260507T235900
SUMMARY:Assignment: Compare/Contrast
URL:https://www.rowlandhs.org/apps/classes/1061419/assignments/#hw-11679523
ORGANIZER;CN="Edlio Calendar":MAILTO:noreply@www.rowlandhs.org
DTSTAMP:20260419T155152Z
END:VEVENT
BEGIN:VEVENT
UID:11679527@www.rowlandhs.org#20260507
SEQUENCE:0
CREATED:20260417T220734Z
LAST-MODIFIED:20260417T220734Z
DTSTART;TZID=US/Pacific:20260507T235800
DTEND;TZID=US/Pacific:20260507T235900
SUMMARY:Assignment: Compare/Contrast
URL:https://www.rowlandhs.org/apps/classes/1061419/assignments/#hw-11679527
ORGANIZER;CN="Edlio Calendar":MAILTO:noreply@www.rowlandhs.org
DTSTAMP:20260419T155152Z
END:VEVENT
BEGIN:VEVENT
UID:11679550@www.rowlandhs.org#20260507
SEQUENCE:0
CREATED:20260417T220734Z
LAST-MODIFIED:20260417T220734Z
DTSTART;TZID=US/Pacific:20260507T235800
DTEND;TZID=US/Pacific:20260507T235900
SUMMARY:Assignment: Compare/Contrast
URL:https://www.rowlandhs.org/apps/classes/1061419/assignments/#hw-11679550
ORGANIZER;CN="Edlio Calendar":MAILTO:noreply@www.rowlandhs.org
DTSTAMP:20260419T155152Z
END:VEVENT
BEGIN:VEVENT
UID:11679556@www.rowlandhs.org#20260507
SEQUENCE:0
CREATED:20260417T220735Z
LAST-MODIFIED:20260417T220735Z
DTSTART;TZID=US/Pacific:20260507T235800
DTEND;TZID=US/Pacific:20260507T235900
SUMMARY:Assignment: Compare/Contrast
URL:https://www.rowlandhs.org/apps/classes/1061419/assignments/#hw-11679556
ORGANIZER;CN="Edlio Calendar":MAILTO:noreply@www.rowlandhs.org
DTSTAMP:20260419T155152Z
END:VEVENT
BEGIN:VEVENT
UID:11679520@www.rowlandhs.org#20260421
SEQUENCE:0
CREATED:20260417T220734Z
LAST-MODIFIED:20260417T220734Z
DTSTART;TZID=US/Pacific:20260421T235800
DTEND;TZID=US/Pacific:20260421T235900
SUMMARY:Assignment: Sections and Variants
URL:https://www.rowlandhs.org/apps/classes/1061419/assignments/#hw-11679520
ORGANIZER;CN="Edlio Calendar":MAILTO:noreply@www.rowlandhs.org
DTSTAMP:20260419T155152Z
END:VEVENT
BEGIN:VEVENT
UID:11679525@www.rowlandhs.org#20260421
SEQUENCE:0
CREATED:20260417T220734Z
LAST-MODIFIED:20260417T220734Z
DTSTART;TZID=US/Pacific:20260421T235800
DTEND;TZID=US/Pacific:20260421T235900
SUMMARY:Assignment: Sections and Variants
URL:https://www.rowlandhs.org/apps/classes/1061419/assignments/#hw-11679525
ORGANIZER;CN="Edlio Calendar":MAILTO:noreply@www.rowlandhs.org
DTSTAMP:20260419T155152Z
END:VEVENT
BEGIN:VEVENT
UID:11679548@www.rowlandhs.org#20260421
SEQUENCE:0
CREATED:20260417T220734Z
LAST-MODIFIED:20260417T220734Z
DTSTART;TZID=US/Pacific:20260421T235800
DTEND;TZID=US/Pacific:20260421T235900
SUMMARY:Assignment: Sections and Variants
URL:https://www.rowlandhs.org/apps/classes/1061419/assignments/#hw-11679548
ORGANIZER;CN="Edlio Calendar":MAILTO:noreply@www.rowlandhs.org
DTSTAMP:20260419T155152Z
END:VEVENT
BEGIN:VEVENT
UID:11679555@www.rowlandhs.org#20260421
SEQUENCE:0
CREATED:20260417T220735Z
LAST-MODIFIED:20260417T220735Z
DTSTART;TZID=US/Pacific:20260421T235800
DTEND;TZID=US/Pacific:20260421T235900
SUMMARY:Assignment: Sections and Variants
URL:https://www.rowlandhs.org/apps/classes/1061419/assignments/#hw-11679555
ORGANIZER;CN="Edlio Calendar":MAILTO:noreply@www.rowlandhs.org
DTSTAMP:20260419T155152Z
END:VEVENT
BEGIN:VEVENT
UID:11679502@www.rowlandhs.org#20260423
SEQUENCE:0
CREATED:20260417T220733Z
LAST-MODIFIED:20260417T220733Z
DTSTART;TZID=US/Pacific:20260423T235800
DTEND;TZID=US/Pacific:20260423T235900
SUMMARY:Assignment: Shapes
URL:https://www.rowlandhs.org/apps/classes/1061419/assignments/#hw-11679502
ORGANIZER;CN="Edlio Calendar":MAILTO:noreply@www.rowlandhs.org
DTSTAMP:20260419T155152Z
END:VEVENT
BEGIN:VEVENT
UID:11679505@www.rowlandhs.org#20260423
SEQUENCE:0
CREATED:20260417T220733Z
LAST-MODIFIED:20260417T220733Z
DTSTART;TZID=US/Pacific:20260423T235800
DTEND;TZID=US/Pacific:20260423T235900
SUMMARY:Assignment: Shapes
URL:https://www.rowlandhs.org/apps/classes/1061419/assignments/#hw-11679505
ORGANIZER;CN="Edlio Calendar":MAILTO:noreply@www.rowlandhs.org
DTSTAMP:20260419T155152Z
END:VEVENT
BEGIN:VEVENT
UID:11679532@www.rowlandhs.org#20260423
SEQUENCE:0
CREATED:20260417T220734Z
LAST-MODIFIED:20260417T220734Z
DTSTART;TZID=US/Pacific:20260423T235800
DTEND;TZID=US/Pacific:20260423T235900
SUMMARY:Assignment: Shapes
URL:https://www.rowlandhs.org/apps/classes/1061419/assignments/#hw-11679532
ORGANIZER;CN="Edlio Calendar":MAILTO:noreply@www.rowlandhs.org
DTSTAMP:20260419T155152Z
END:VEVENT
BEGIN:VEVENT
UID:11679542@www.rowlandhs.org#20260423
SEQUENCE:0
CREATED:20260417T220734Z
LAST-MODIFIED:20260417T220734Z
DTSTART;TZID=US/Pacific:20260423T235800
DTEND;TZID=US/Pacific:20260423T235900
SUMMARY:Assignment: Shapes
URL:https://www.rowlandhs.org/apps/classes/1061419/assignments/#hw-11679542
ORGANIZER;CN="Edlio Calendar":MAILTO:noreply@www.rowlandhs.org
DTSTAMP:20260419T155152Z
END:VEVENT
BEGIN:VEVENT
UID:11679508@www.rowlandhs.org#20260508
SEQUENCE:0
CREATED:20260417T220733Z
LAST-MODIFIED:20260417T220733Z
DTSTART;TZID=US/Pacific:20260508T235800
DTEND;TZID=US/Pacific:20260508T235900
SUMMARY:Assignment: Short Essay #6
DESCRIPTION:Select a prompt and write a 4 paragraph essay\, with MLA Citati
 ons<br>During the semester\, select one PEN Essay\; Persuasive\, Expositor
 y or Narrative.\n<a href=' https://www.rowlandhs.org/apps/classes/1061419/
 assignments/#hw-11679508'>Read more</a>
URL:https://www.rowlandhs.org/apps/classes/1061419/assignments/#hw-11679508
ORGANIZER;CN="Edlio Calendar":MAILTO:noreply@www.rowlandhs.org
DTSTAMP:20260419T155152Z
END:VEVENT
BEGIN:VEVENT
UID:11679511@www.rowlandhs.org#20260508
SEQUENCE:0
CREATED:20260417T220734Z
LAST-MODIFIED:20260417T220734Z
DTSTART;TZID=US/Pacific:20260508T235800
DTEND;TZID=US/Pacific:20260508T235900
SUMMARY:Assignment: Short Essay #6
DESCRIPTION:Select a prompt and write a 4 paragraph essay\, with MLA Citati
 ons<br>During the semester\, select one PEN Essay\; Persuasive\, Expositor
 y or Narrative.\n<a href=' https://www.rowlandhs.org/apps/classes/1061419/
 assignments/#hw-11679511'>Read more</a>
URL:https://www.rowlandhs.org/apps/classes/1061419/assignments/#hw-11679511
ORGANIZER;CN="Edlio Calendar":MAILTO:noreply@www.rowlandhs.org
DTSTAMP:20260419T155152Z
END:VEVENT
BEGIN:VEVENT
UID:11679539@www.rowlandhs.org#20260508
SEQUENCE:0
CREATED:20260417T220734Z
LAST-MODIFIED:20260417T220734Z
DTSTART;TZID=US/Pacific:20260508T235800
DTEND;TZID=US/Pacific:20260508T235900
SUMMARY:Assignment: Short Essay #6
DESCRIPTION:Select a prompt and write a 4 paragraph essay\, with MLA Citati
 ons<br>During the semester\, select one PEN Essay\; Persuasive\, Expositor
 y or Narrative.\n<a href=' https://www.rowlandhs.org/apps/classes/1061419/
 assignments/#hw-11679539'>Read more</a>
URL:https://www.rowlandhs.org/apps/classes/1061419/assignments/#hw-11679539
ORGANIZER;CN="Edlio Calendar":MAILTO:noreply@www.rowlandhs.org
DTSTAMP:20260419T155152Z
END:VEVENT
BEGIN:VEVENT
UID:11679549@www.rowlandhs.org#20260508
SEQUENCE:0
CREATED:20260417T220734Z
LAST-MODIFIED:20260417T220734Z
DTSTART;TZID=US/Pacific:20260508T235800
DTEND;TZID=US/Pacific:20260508T235900
SUMMARY:Assignment: Short Essay #6
DESCRIPTION:Select a prompt and write a 4 paragraph essay\, with MLA Citati
 ons<br>During the semester\, select one PEN Essay\; Persuasive\, Expositor
 y or Narrative.\n<a href=' https://www.rowlandhs.org/apps/classes/1061419/
 assignments/#hw-11679549'>Read more</a>
URL:https://www.rowlandhs.org/apps/classes/1061419/assignments/#hw-11679549
ORGANIZER;CN="Edlio Calendar":MAILTO:noreply@www.rowlandhs.org
DTSTAMP:20260419T155152Z
END:VEVENT
BEGIN:VEVENT
UID:11679510@www.rowlandhs.org#20260428
SEQUENCE:0
CREATED:20260417T220734Z
LAST-MODIFIED:20260417T220734Z
DTSTART;TZID=US/Pacific:20260428T235800
DTEND;TZID=US/Pacific:20260428T235900
SUMMARY:Assignment: SmartArt
URL:https://www.rowlandhs.org/apps/classes/1061419/assignments/#hw-11679510
ORGANIZER;CN="Edlio Calendar":MAILTO:noreply@www.rowlandhs.org
DTSTAMP:20260419T155152Z
END:VEVENT
BEGIN:VEVENT
UID:11679513@www.rowlandhs.org#20260428
SEQUENCE:0
CREATED:20260417T220734Z
LAST-MODIFIED:20260417T220734Z
DTSTART;TZID=US/Pacific:20260428T235800
DTEND;TZID=US/Pacific:20260428T235900
SUMMARY:Assignment: SmartArt
URL:https://www.rowlandhs.org/apps/classes/1061419/assignments/#hw-11679513
ORGANIZER;CN="Edlio Calendar":MAILTO:noreply@www.rowlandhs.org
DTSTAMP:20260419T155152Z
END:VEVENT
BEGIN:VEVENT
UID:11679541@www.rowlandhs.org#20260428
SEQUENCE:0
CREATED:20260417T220734Z
LAST-MODIFIED:20260417T220734Z
DTSTART;TZID=US/Pacific:20260428T235800
DTEND;TZID=US/Pacific:20260428T235900
SUMMARY:Assignment: SmartArt
URL:https://www.rowlandhs.org/apps/classes/1061419/assignments/#hw-11679541
ORGANIZER;CN="Edlio Calendar":MAILTO:noreply@www.rowlandhs.org
DTSTAMP:20260419T155152Z
END:VEVENT
BEGIN:VEVENT
UID:11679551@www.rowlandhs.org#20260428
SEQUENCE:0
CREATED:20260417T220734Z
LAST-MODIFIED:20260417T220734Z
DTSTART;TZID=US/Pacific:20260428T235800
DTEND;TZID=US/Pacific:20260428T235900
SUMMARY:Assignment: SmartArt
URL:https://www.rowlandhs.org/apps/classes/1061419/assignments/#hw-11679551
ORGANIZER;CN="Edlio Calendar":MAILTO:noreply@www.rowlandhs.org
DTSTAMP:20260419T155152Z
END:VEVENT
BEGIN:VEVENT
UID:11679517@www.rowlandhs.org#20260505
SEQUENCE:0
CREATED:20260417T220734Z
LAST-MODIFIED:20260417T220734Z
DTSTART;TZID=US/Pacific:20260505T235800
DTEND;TZID=US/Pacific:20260505T235900
SUMMARY:Assignment: Timeline
URL:https://www.rowlandhs.org/apps/classes/1061419/assignments/#hw-11679517
ORGANIZER;CN="Edlio Calendar":MAILTO:noreply@www.rowlandhs.org
DTSTAMP:20260419T155152Z
END:VEVENT
BEGIN:VEVENT
UID:11679522@www.rowlandhs.org#20260505
SEQUENCE:0
CREATED:20260417T220734Z
LAST-MODIFIED:20260417T220734Z
DTSTART;TZID=US/Pacific:20260505T235800
DTEND;TZID=US/Pacific:20260505T235900
SUMMARY:Assignment: Timeline
URL:https://www.rowlandhs.org/apps/classes/1061419/assignments/#hw-11679522
ORGANIZER;CN="Edlio Calendar":MAILTO:noreply@www.rowlandhs.org
DTSTAMP:20260419T155152Z
END:VEVENT
BEGIN:VEVENT
UID:11679546@www.rowlandhs.org#20260505
SEQUENCE:0
CREATED:20260417T220734Z
LAST-MODIFIED:20260417T220734Z
DTSTART;TZID=US/Pacific:20260505T235800
DTEND;TZID=US/Pacific:20260505T235900
SUMMARY:Assignment: Timeline
URL:https://www.rowlandhs.org/apps/classes/1061419/assignments/#hw-11679546
ORGANIZER;CN="Edlio Calendar":MAILTO:noreply@www.rowlandhs.org
DTSTAMP:20260419T155152Z
END:VEVENT
BEGIN:VEVENT
UID:11679554@www.rowlandhs.org#20260505
SEQUENCE:0
CREATED:20260417T220735Z
LAST-MODIFIED:20260417T220735Z
DTSTART;TZID=US/Pacific:20260505T235800
DTEND;TZID=US/Pacific:20260505T235900
SUMMARY:Assignment: Timeline
URL:https://www.rowlandhs.org/apps/classes/1061419/assignments/#hw-11679554
ORGANIZER;CN="Edlio Calendar":MAILTO:noreply@www.rowlandhs.org
DTSTAMP:20260419T155152Z
END:VEVENT
BEGIN:VEVENT
UID:11679494@www.rowlandhs.org#20260430
SEQUENCE:0
CREATED:20260417T220733Z
LAST-MODIFIED:20260417T220733Z
DTSTART;TZID=US/Pacific:20260430T235800
DTEND;TZID=US/Pacific:20260430T235900
SUMMARY:Assignment: Timings
URL:https://www.rowlandhs.org/apps/classes/1061419/assignments/#hw-11679494
ORGANIZER;CN="Edlio Calendar":MAILTO:noreply@www.rowlandhs.org
DTSTAMP:20260419T155152Z
END:VEVENT
BEGIN:VEVENT
UID:11679497@www.rowlandhs.org#20260430
SEQUENCE:0
CREATED:20260417T220733Z
LAST-MODIFIED:20260417T220733Z
DTSTART;TZID=US/Pacific:20260430T235800
DTEND;TZID=US/Pacific:20260430T235900
SUMMARY:Assignment: Timings
URL:https://www.rowlandhs.org/apps/classes/1061419/assignments/#hw-11679497
ORGANIZER;CN="Edlio Calendar":MAILTO:noreply@www.rowlandhs.org
DTSTAMP:20260419T155152Z
END:VEVENT
BEGIN:VEVENT
UID:11679524@www.rowlandhs.org#20260430
SEQUENCE:0
CREATED:20260417T220734Z
LAST-MODIFIED:20260417T220734Z
DTSTART;TZID=US/Pacific:20260430T235800
DTEND;TZID=US/Pacific:20260430T235900
SUMMARY:Assignment: Timings
URL:https://www.rowlandhs.org/apps/classes/1061419/assignments/#hw-11679524
ORGANIZER;CN="Edlio Calendar":MAILTO:noreply@www.rowlandhs.org
DTSTAMP:20260419T155152Z
END:VEVENT
BEGIN:VEVENT
UID:11679534@www.rowlandhs.org#20260430
SEQUENCE:0
CREATED:20260417T220734Z
LAST-MODIFIED:20260417T220734Z
DTSTART;TZID=US/Pacific:20260430T235800
DTEND;TZID=US/Pacific:20260430T235900
SUMMARY:Assignment: Timings
URL:https://www.rowlandhs.org/apps/classes/1061419/assignments/#hw-11679534
ORGANIZER;CN="Edlio Calendar":MAILTO:noreply@www.rowlandhs.org
DTSTAMP:20260419T155152Z
END:VEVENT
BEGIN:VEVENT
UID:11679506@www.rowlandhs.org#20260512
SEQUENCE:0
CREATED:20260417T220733Z
LAST-MODIFIED:20260417T220733Z
DTSTART;TZID=US/Pacific:20260512T235800
DTEND;TZID=US/Pacific:20260512T235900
SUMMARY:Assignment: Transitions and Sound Effects
URL:https://www.rowlandhs.org/apps/classes/1061419/assignments/#hw-11679506
ORGANIZER;CN="Edlio Calendar":MAILTO:noreply@www.rowlandhs.org
DTSTAMP:20260419T155152Z
END:VEVENT
BEGIN:VEVENT
UID:11679509@www.rowlandhs.org#20260512
SEQUENCE:0
CREATED:20260417T220733Z
LAST-MODIFIED:20260417T220733Z
DTSTART;TZID=US/Pacific:20260512T235800
DTEND;TZID=US/Pacific:20260512T235900
SUMMARY:Assignment: Transitions and Sound Effects
URL:https://www.rowlandhs.org/apps/classes/1061419/assignments/#hw-11679509
ORGANIZER;CN="Edlio Calendar":MAILTO:noreply@www.rowlandhs.org
DTSTAMP:20260419T155152Z
END:VEVENT
BEGIN:VEVENT
UID:11679537@www.rowlandhs.org#20260512
SEQUENCE:0
CREATED:20260417T220734Z
LAST-MODIFIED:20260417T220734Z
DTSTART;TZID=US/Pacific:20260512T235800
DTEND;TZID=US/Pacific:20260512T235900
SUMMARY:Assignment: Transitions and Sound Effects
URL:https://www.rowlandhs.org/apps/classes/1061419/assignments/#hw-11679537
ORGANIZER;CN="Edlio Calendar":MAILTO:noreply@www.rowlandhs.org
DTSTAMP:20260419T155152Z
END:VEVENT
BEGIN:VEVENT
UID:11679547@www.rowlandhs.org#20260512
SEQUENCE:0
CREATED:20260417T220734Z
LAST-MODIFIED:20260417T220734Z
DTSTART;TZID=US/Pacific:20260512T235800
DTEND;TZID=US/Pacific:20260512T235900
SUMMARY:Assignment: Transitions and Sound Effects
URL:https://www.rowlandhs.org/apps/classes/1061419/assignments/#hw-11679547
ORGANIZER;CN="Edlio Calendar":MAILTO:noreply@www.rowlandhs.org
DTSTAMP:20260419T155152Z
END:VEVENT
BEGIN:VEVENT
UID:11679498@www.rowlandhs.org#20260521
SEQUENCE:0
CREATED:20260417T220733Z
LAST-MODIFIED:20260417T220733Z
DTSTART;TZID=US/Pacific:20260521T235800
DTEND;TZID=US/Pacific:20260521T235900
SUMMARY:Assignment: Trivia Show
DESCRIPTION:Everyone in the group needs to submit the game they create. We 
 will be playing the classes review of Programming\, PPT\, and Computer Tec
 hnology.\n<a href=' https://www.rowlandhs.org/apps/classes/1061419/assignm
 ents/#hw-11679498'>Read more</a>
URL:https://www.rowlandhs.org/apps/classes/1061419/assignments/#hw-11679498
ORGANIZER;CN="Edlio Calendar":MAILTO:noreply@www.rowlandhs.org
DTSTAMP:20260419T155152Z
END:VEVENT
BEGIN:VEVENT
UID:11679501@www.rowlandhs.org#20260521
SEQUENCE:0
CREATED:20260417T220733Z
LAST-MODIFIED:20260417T220733Z
DTSTART;TZID=US/Pacific:20260521T235800
DTEND;TZID=US/Pacific:20260521T235900
SUMMARY:Assignment: Trivia Show
DESCRIPTION:Everyone in the group needs to submit the game they create. We 
 will be playing the classes review of Programming\, PPT\, and Computer Tec
 hnology.\n<a href=' https://www.rowlandhs.org/apps/classes/1061419/assignm
 ents/#hw-11679501'>Read more</a>
URL:https://www.rowlandhs.org/apps/classes/1061419/assignments/#hw-11679501
ORGANIZER;CN="Edlio Calendar":MAILTO:noreply@www.rowlandhs.org
DTSTAMP:20260419T155152Z
END:VEVENT
BEGIN:VEVENT
UID:11679529@www.rowlandhs.org#20260521
SEQUENCE:0
CREATED:20260417T220734Z
LAST-MODIFIED:20260417T220734Z
DTSTART;TZID=US/Pacific:20260521T235800
DTEND;TZID=US/Pacific:20260521T235900
SUMMARY:Assignment: Trivia Show
DESCRIPTION:Everyone in the group needs to submit the game they create. We 
 will be playing the classes review of Programming\, PPT\, and Computer Tec
 hnology.\n<a href=' https://www.rowlandhs.org/apps/classes/1061419/assignm
 ents/#hw-11679529'>Read more</a>
URL:https://www.rowlandhs.org/apps/classes/1061419/assignments/#hw-11679529
ORGANIZER;CN="Edlio Calendar":MAILTO:noreply@www.rowlandhs.org
DTSTAMP:20260419T155152Z
END:VEVENT
BEGIN:VEVENT
UID:11679538@www.rowlandhs.org#20260521
SEQUENCE:0
CREATED:20260417T220734Z
LAST-MODIFIED:20260417T220734Z
DTSTART;TZID=US/Pacific:20260521T235800
DTEND;TZID=US/Pacific:20260521T235900
SUMMARY:Assignment: Trivia Show
DESCRIPTION:Everyone in the group needs to submit the game they create. We 
 will be playing the classes review of Programming\, PPT\, and Computer Tec
 hnology.\n<a href=' https://www.rowlandhs.org/apps/classes/1061419/assignm
 ents/#hw-11679538'>Read more</a>
URL:https://www.rowlandhs.org/apps/classes/1061419/assignments/#hw-11679538
ORGANIZER;CN="Edlio Calendar":MAILTO:noreply@www.rowlandhs.org
DTSTAMP:20260419T155152Z
END:VEVENT
BEGIN:VEVENT
UID:11679514@www.rowlandhs.org#20260518
SEQUENCE:0
CREATED:20260417T220734Z
LAST-MODIFIED:20260417T220734Z
DTSTART;TZID=US/Pacific:20260518T235800
DTEND;TZID=US/Pacific:20260518T235900
SUMMARY:Assignment: Video Playback
URL:https://www.rowlandhs.org/apps/classes/1061419/assignments/#hw-11679514
ORGANIZER;CN="Edlio Calendar":MAILTO:noreply@www.rowlandhs.org
DTSTAMP:20260419T155152Z
END:VEVENT
BEGIN:VEVENT
UID:11679519@www.rowlandhs.org#20260518
SEQUENCE:0
CREATED:20260417T220734Z
LAST-MODIFIED:20260417T220734Z
DTSTART;TZID=US/Pacific:20260518T235800
DTEND;TZID=US/Pacific:20260518T235900
SUMMARY:Assignment: Video Playback
URL:https://www.rowlandhs.org/apps/classes/1061419/assignments/#hw-11679519
ORGANIZER;CN="Edlio Calendar":MAILTO:noreply@www.rowlandhs.org
DTSTAMP:20260419T155152Z
END:VEVENT
BEGIN:VEVENT
UID:11679544@www.rowlandhs.org#20260518
SEQUENCE:0
CREATED:20260417T220734Z
LAST-MODIFIED:20260417T220734Z
DTSTART;TZID=US/Pacific:20260518T235800
DTEND;TZID=US/Pacific:20260518T235900
SUMMARY:Assignment: Video Playback
URL:https://www.rowlandhs.org/apps/classes/1061419/assignments/#hw-11679544
ORGANIZER;CN="Edlio Calendar":MAILTO:noreply@www.rowlandhs.org
DTSTAMP:20260419T155152Z
END:VEVENT
BEGIN:VEVENT
UID:11679553@www.rowlandhs.org#20260518
SEQUENCE:0
CREATED:20260417T220735Z
LAST-MODIFIED:20260417T220735Z
DTSTART;TZID=US/Pacific:20260518T235800
DTEND;TZID=US/Pacific:20260518T235900
SUMMARY:Assignment: Video Playback
URL:https://www.rowlandhs.org/apps/classes/1061419/assignments/#hw-11679553
ORGANIZER;CN="Edlio Calendar":MAILTO:noreply@www.rowlandhs.org
DTSTAMP:20260419T155152Z
END:VEVENT
END:VCALENDAR
